BEGIN:VCALENDAR
VERSION:2.0
PRODID:-//Atmoz - ECPv6.0.11//NONSGML v1.0//EN
CALSCALE:GREGORIAN
METHOD:PUBLISH
X-WR-CALNAME:Atmoz
X-ORIGINAL-URL:https://www.atmoz.be
X-WR-CALDESC:Evenementen voor Atmoz
REFRESH-INTERVAL;VALUE=DURATION:PT1H
X-Robots-Tag:noindex
X-PUBLISHED-TTL:PT1H
BEGIN:VTIMEZONE
TZID:UTC
BEGIN:STANDARD
TZOFFSETFROM:+0000
TZOFFSETTO:+0000
TZNAME:UTC
DTSTART:20230101T000000
END:STANDARD
END:VTIMEZONE
BEGIN:VEVENT
DTSTART;TZID=UTC:20230722T140000
DTEND;TZID=UTC:20230723T010000
DTSTAMP:20260422T220643
CREATED:20230404T061331Z
LAST-MODIFIED:20230404T062335Z
UID:591-1690034400-1690074000@www.atmoz.be
SUMMARY:Atmoz Open Air 2023
DESCRIPTION:𝐀𝐓𝐌𝐎𝐙 𝐎𝐏𝐄𝐍 𝐀𝐈𝐑 𝟐𝟎𝟐𝟑\n𝟐𝟐 𝐉𝐔𝐋𝐈 ‘𝟐𝟑 – 𝐌𝐀𝐀𝐒𝐄𝐈𝐊 (𝐁𝐄)\n𝐋𝐀𝐒𝐓 𝐘𝐄𝐀𝐑 𝐒𝐎𝐋𝐃 𝐎𝐔𝐓!\nOp zaterdag 22 juli 2023 vindt Atmoz Open Air plaats in Maaseik (BE). De eerste 2 edities waren sold out! Maak je klaar voor een waanzinnige dag vol retro classics aan de idyllische Heerenlaakplas. Ook dit jaar weer 2 stages met retro classics\, groove en club floorfillers!\n 𝐀𝐎𝐀 𝐓𝐈𝐂𝐊𝐄𝐓𝐒\nMeer dan 1000 tickets zijn reeds gekocht in de pre-registratieperiode. Maandag 26 maart om 20 uur begint de ticketverkoop met beperkt aantal earlybirds voor de vroege vogels!\nTicketlink: https://www.tiqs.com/alfred/events/shop/1601\n 𝐋𝐈𝐍𝐄-𝐔𝐏\nDe muziek van toen… De DJ’s van toen en… The Atmosphere van toen! We toveren het Heerenlaak voor één dag om naar de club die ons jaren in vervoering bracht. Op de 2de stage zullen house & groove classics maar ook de club floorfillers van vandaag te horen zijn! Registeer je nu\, mogelijk tot 15 maart!\n 𝐖𝐇𝐀𝐓 𝐄𝐋𝐒𝐄\n2 stages • Foodtrucks • Ibizacorner • Lasershow • Lounge • Glitter Bar\n 𝐓𝐑𝐀𝐕𝐄𝐋\nGenk: 25′ • Hasselt: 35’ • Sittard (NL): 20′ • Roermond (NL): 20′ • Maastricht (NL): 25′ • Eindhoven: 35’ • Aken (DE): 40’\n 𝐈𝐍𝐅𝐎\nWhen: Zaterdag 22 juli 2023 van 14 tot 1 uur | Where: Heerenlaakplas\, Maaseik (BE) | GPS: Houtweg\, 3680 Maaseik | Pre-registreer je nu: www.atmozopenair.be \nSee less
URL:https://www.atmoz.be/event/atmoz-open-air-2023/
LOCATION:Heerenlaakplas\, Aldeneik\, Maaseik\, 3680\, Nederland
CATEGORIES:Event
ATTACH;FMTTYPE=image/jpeg:https://www.atmoz.be/wp-content/uploads/2023/04/334951106_216291920953832_1288346336756028911_n.jpg
END:VEVENT
BEGIN:VEVENT
DTSTART;TZID=UTC:20230409T220000
DTEND;TZID=UTC:20230409T220000
DTSTAMP:20260422T220643
CREATED:20230203T215017Z
LAST-MODIFIED:20230203T215017Z
UID:524-1681077600-1681077600@www.atmoz.be
SUMMARY:Atmoz Classics - Enter The Lasershow
DESCRIPTION:Op paaszondag 9 april 2023 landt Atmoz Classics traditiegetrouw in hartje Maastricht voor de lekkerste klassiekers uit de clubhistorie van deze Belgische legendarische club. Ook deze editie hebben wij weer wat leuke dingen in petto en pakken we uit met een maximale lasershow zoals je nog nooit hebt gezien bij Atmoz.\n\n𝐓𝐢𝐜𝐤𝐞𝐭𝐬 𝐠𝐚𝐚𝐧 𝐝𝐨𝐧𝐝𝐞𝐫𝐝𝐚𝐠 𝟐 𝐟𝐞𝐛𝐫𝐮𝐚𝐫𝐢 𝐨𝐦 𝟐𝟎.𝟎𝟎𝐮 𝐨𝐧𝐥𝐢𝐧𝐞!\n\nVoorgaande edities in Maastricht zijn op voorhand uitverkocht en staan garant voor de beste sfeer zoals je die tegenwoordig niet meer veel tegenkomt. Reden te meer om er vroeg bij te zijn dus zet je schrap want 𝑨𝑻𝑴𝑶𝒁 𝑪𝑳𝑨𝑺𝑺𝑰𝑪𝑺 – 𝑬𝑵𝑻𝑬𝑹 𝑻𝑯𝑬 𝑳𝑨𝑺𝑬𝑹𝑺𝑯𝑶𝑾 komt eraan!\nWij halen de gouden tijden van discotheek Atmoz met haar typerende Belgische sound terug tijdens het leukste retrofeestje van het jaar!\n Muziek van toen…\n Publiek van toen…\n DJ’s van toen…\n\n‘AtmoZ’\, the story so far….\nMidden jaren negentig werd er dancegeschiedenis geschreven: DJ/Producer Pat Krimson start met het AtmoZ-concept! In 1996 werd club Atmoz geopend in Hasselt (Ritz) en in 1998 volgde Atmoz in Vosselaar (La Forza). Het Atmoz-concept bleek ongekend populair bij zowel Belgen als Nederlanders. ‘Happy Music for Happy People’ Dat werd iedere week weer gevierd met luid getoeter en veel gejuich op de dansvloer.\nDe Atmoz-resident DJ crew bestond uit Pat Krimson\, Nico Parisi\, Dj Gert Corvers\, Davidoff en Sven Lanvin. Deze werden aangevuld met andere helden als Francois\, Daniel June\, G-roam aka Punisher\, Yves Deruyter enzv. Het AtmoZ-records label releasde menige clubhits en er zijn meer dan 250.000 Atmoz – CD compilaties over de toonbank gegaan…\n 
URL:https://www.atmoz.be/event/atmoz-classics-enter-the-lasershow/
LOCATION:Muziekgieterij\, Boschstraat 5\, Maastricht\, Nederland
CATEGORIES:Event
ATTACH;FMTTYPE=image/jpeg:https://www.atmoz.be/wp-content/uploads/2023/02/326412946_745321923619296_4591398066710690707_n.jpg
END:VEVENT
BEGIN:VEVENT
DTSTART;TZID=UTC:20230325T213000
DTEND;TZID=UTC:20230325T213000
DTSTAMP:20260422T220643
CREATED:20190822T101920Z
LAST-MODIFIED:20230203T120029Z
UID:147-1679779800-1679779800@www.atmoz.be
SUMMARY:AtmoZ RETRO
DESCRIPTION:‘AtmoZ Retro’\nThe best classics by Pat Krimson & The AtmoZ DJ-crew \n 
URL:https://www.atmoz.be/event/atmoz-retro/
LOCATION:cobra\, Olenseweg 40\, Lichtaart\, België
CATEGORIES:Event
ATTACH;FMTTYPE=image/jpeg:https://www.atmoz.be/wp-content/uploads/2019/08/atmoz-maartcobra.jpg
END:VEVENT
BEGIN:VEVENT
DTSTART;TZID=UTC:20230318T220000
DTEND;TZID=UTC:20230318T220000
DTSTAMP:20260422T220643
CREATED:20190822T101251Z
LAST-MODIFIED:20230203T114917Z
UID:145-1679176800-1679176800@www.atmoz.be
SUMMARY:Atmoz | Kokorico
DESCRIPTION:𝐓𝐈𝐂𝐊𝐄𝐓𝐒𝐇𝐎𝐏 𝐎𝐏𝐄𝐍\nLink: https://tiqs.com/AtmozAtKokorico\n\n𝐀𝐓𝐌𝐎𝐙 𝐀𝐓 𝐊𝐎𝐊𝐎𝐑𝐈𝐂𝐎\nMidden jaren 90 werd dance geschiedenis geschreven. Atmoz clubs openden in Vosselaar en Hasselt. Het Atmoz concept by Pat Krimson was een waanzinnig succes. Elke zaterdagnacht ontstond er een uitzinnige sfeer met sold-out club nights. Pat Krimson brengt op 18 maart\, één van de meest legendarische clubs die België ooit gekend heeft naar Kokorico.\n\n𝐋𝐈𝐍𝐄-𝐔𝐏\nPat Krimson | DJ Ghost | Sven Lanvin | Nico Parisi | DJ X-Tof | Retro Belgica | Vince Nova | Atmoz entertainment team\n\n𝐌𝐔𝐒𝐈𝐂 𝐅𝐎𝐑 𝐇𝐀𝐏𝐏𝐘 𝐏𝐄𝐎𝐏𝐋𝐄\nDe muziek van toen… De DJ’s van toen en… The Atmosphere van toen! We toveren Kokorico voor één nacht om naar de club die velen jaren in vervoering bracht. Mis deze dance flashback niet! Na sold-out edities in Hasselt\, Maaseik\, Maastricht\, Eindhoven voor het eerst in Kokorico.\n\n𝐏𝐑𝐀𝐂𝐓𝐈𝐂𝐀𝐋\nWhen? 18 maart van 22u00 tot 06u00 (be on time and skip the line!)\nLocatie: Kokorico\, Grote Baan 271\, Lievegem
URL:https://www.atmoz.be/event/atmoz-kokorico/
LOCATION:kokorico\, Grote Baan 271\, Lievegem\, België
CATEGORIES:Event
ATTACH;FMTTYPE=image/jpeg:https://www.atmoz.be/wp-content/uploads/2019/08/atmoz-maart2.jpg
END:VEVENT
BEGIN:VEVENT
DTSTART;TZID=UTC:20230101T220000
DTEND;TZID=UTC:20230201T060000
DTSTAMP:20260422T220643
CREATED:20190819T121044Z
LAST-MODIFIED:20230203T114747Z
UID:72-1672610400-1675231200@www.atmoz.be
SUMMARY:Atmoz Reunion
DESCRIPTION: 𝐀𝐓𝐌𝐎𝐙 𝐑𝐄𝐔𝐍𝐈𝐎𝐍\nNa een SOLD-OUT editie in 2019 en 2020 keert de Official Reunion editie op zondag 1 januari terug in Hasselt. Zet je schrap voor de allereerste retro knallers van 2023 in Area V\, Hasselt.\n\n𝐋𝐈𝐍𝐄-𝐔𝐏\nPat Krimson | Sven Lanvin | DJ Francois (NL) | Nico Parisi | Gemeni | Dominico\n\n𝐌𝐔𝐒𝐈𝐂 𝐅𝐎𝐑 𝐇𝐀𝐏𝐏𝐘 𝐏𝐄𝐎𝐏𝐋𝐄\nDe muziek van toen… De DJ’s van toen en… The Atmosphere van toen! We toveren Area V voor één nacht om naar de club die ons jaren in vervoering bracht. Mis deze retro countdown niet!\n\n𝐏𝐑𝐀𝐂𝐓𝐈𝐂𝐀𝐋\nTickets: https://tiqs.com/AtmozReunionTickets\nLocatie: Gouverneur Verwilghensingel 70\, Hasselt (22-06 uur).\n 
URL:https://www.atmoz.be/event/atmoz-reunion-area-v-hasselt/
LOCATION:area v\, Gouverneur Verwilghensingel 70\, Hasselt\, België
CATEGORIES:Event
ATTACH;FMTTYPE=image/jpeg:https://www.atmoz.be/wp-content/uploads/2019/08/atwoz-1jan.jpg
END:VEVENT
END:VCALENDAR